BEGIN:VCALENDAR
VERSION:2.0
PRODID:spatie/icalendar-generator
DESCRIPTION:Events from Maghull and Lydiate U3A
X-WR-CALDESC:Events from Maghull and Lydiate U3A
REFRESH-INTERVAL;VALUE=DURATION:PT1440M
X-PUBLISHED-TTL:PT1440M
BEGIN:VTIMEZONE
TZID:Europe/London
BEGIN:STANDARD
DTSTART:20251026T020000Z
TZOFFSETFROM:+0100
TZOFFSETTO:+0000
END:STANDARD
BEGIN:DAYLIGHT
DTSTART:20260329T010000Z
TZOFFSETFROM:+0000
TZOFFSETTO:+0100
END:DAYLIGHT
BEGIN:STANDARD
DTSTART:20261025T020000Z
TZOFFSETFROM:+0100
TZOFFSETTO:+0000
END:STANDARD
END:VTIMEZONE
BEGIN:VTIMEZONE
TZID:UTC
BEGIN:STANDARD
DTSTART:20250723T150523Z
TZOFFSETFROM:+0000
TZOFFSETTO:+0000
END:STANDARD
END:VTIMEZONE
BEGIN:VEVENT
UID:7256-352
DTSTAMP:20260419T150523Z
SUMMARY:Architecture for Fun - Capesthorne Hall\, Macclesfield
LOCATION:
ORGANIZER;CN=Bob Morris:MAILTO:bobsafe@btinternet.com
DTSTART;TZID=Europe/London;VALUE=DATE:20260528
DTEND;TZID=Europe/London;VALUE=DATE:20260529
X-ALT-DESC;FMTTYPE=TEXT/HTML:With optional extra of food at the Lakeside Ca
 fe Leader George Birchall 07826 048379 More details here &amp;nbsp\;
CATEGORIES:General
URL;VALUE=URI:https://www.maghullandlydiateu3a.org.uk/mc-events/architectur
 e-for-fun-capesthorne-hall-macclesfield/?mc_id=7256
END:VEVENT
END:VCALENDAR