BEGIN:VCALENDAR
VERSION:2.0
PRODID:spatie/icalendar-generator
DESCRIPTION:Events from Maghull and Lydiate U3A
X-WR-CALDESC:Events from Maghull and Lydiate U3A
REFRESH-INTERVAL;VALUE=DURATION:PT1440M
X-PUBLISHED-TTL:PT1440M
BEGIN:VTIMEZONE
TZID:Europe/London
BEGIN:DAYLIGHT
DTSTART:20250330T010000Z
TZOFFSETFROM:+0000
TZOFFSETTO:+0100
END:DAYLIGHT
BEGIN:STANDARD
DTSTART:20251026T020000Z
TZOFFSETFROM:+0100
TZOFFSETTO:+0000
END:STANDARD
END:VTIMEZONE
BEGIN:VTIMEZONE
TZID:UTC
BEGIN:STANDARD
DTSTART:20250724T001242Z
TZOFFSETFROM:+0000
TZOFFSETTO:+0000
END:STANDARD
END:VTIMEZONE
BEGIN:VEVENT
UID:3759-257
DTSTAMP:20260420T001242Z
SUMMARY:Architecture for Fun - Lyme Park
LOCATION:
ORGANIZER;CN=Bob Morris:MAILTO:bobsafe@btinternet.com
DTSTART;TZID=Europe/London;VALUE=DATE:20250728
DTEND;TZID=Europe/London;VALUE=DATE:20250729
X-ALT-DESC;FMTTYPE=TEXT/HTML:Leader George Birchall 07826 048379 More detai
 ls here
CATEGORIES:General
URL;VALUE=URI:https://www.maghullandlydiateu3a.org.uk/mc-events/architectur
 e-for-fun-lyme-park/?mc_id=3759
END:VEVENT
END:VCALENDAR