BEGIN:VCALENDAR
VERSION:2.0
PRODID:spatie/icalendar-generator
DESCRIPTION:Events from Maghull and Lydiate U3A
X-WR-CALDESC:Events from Maghull and Lydiate U3A
REFRESH-INTERVAL;VALUE=DURATION:PT1440M
X-PUBLISHED-TTL:PT1440M
BEGIN:VTIMEZONE
TZID:Europe/London
BEGIN:DAYLIGHT
DTSTART:20250330T010000Z
TZOFFSETFROM:+0000
TZOFFSETTO:+0100
END:DAYLIGHT
BEGIN:STANDARD
DTSTART:20251026T020000Z
TZOFFSETFROM:+0100
TZOFFSETTO:+0000
END:STANDARD
END:VTIMEZONE
BEGIN:VTIMEZONE
TZID:UTC
BEGIN:STANDARD
DTSTART:20250724T021205Z
TZOFFSETFROM:+0000
TZOFFSETTO:+0000
END:STANDARD
END:VTIMEZONE
BEGIN:VEVENT
UID:3715-233
DTSTAMP:20260420T021205Z
SUMMARY:Theatre Group at The Empire
LOCATION:
ORGANIZER;CN=ann unsworth:MAILTO:annunsworth@yahoo.com
DTSTART;TZID=Europe/London:20250827T193000
DTEND;TZID=Europe/London:20250827T203000
X-ALT-DESC;FMTTYPE=TEXT/HTML:Leader Ann Unsworth 07881 885 474\, Pat Kelly 
 0151 476 1726 or Sue Quinn Tina
CATEGORIES:General
URL;VALUE=URI:https://www.maghullandlydiateu3a.org.uk/mc-events/theatre-gro
 up-at-the-empire/?mc_id=3715
END:VEVENT
END:VCALENDAR