BEGIN:VCALENDAR
VERSION:2.0
PRODID:spatie/icalendar-generator
DESCRIPTION:Events from Maghull and Lydiate U3A
X-WR-CALDESC:Events from Maghull and Lydiate U3A
REFRESH-INTERVAL;VALUE=DURATION:PT1440M
X-PUBLISHED-TTL:PT1440M
BEGIN:VTIMEZONE
TZID:Europe/London
BEGIN:DAYLIGHT
DTSTART:20260329T010000Z
TZOFFSETFROM:+0000
TZOFFSETTO:+0100
END:DAYLIGHT
BEGIN:STANDARD
DTSTART:20261025T020000Z
TZOFFSETFROM:+0100
TZOFFSETTO:+0000
END:STANDARD
END:VTIMEZONE
BEGIN:VTIMEZONE
TZID:UTC
BEGIN:STANDARD
DTSTART:20250724T001256Z
TZOFFSETFROM:+0000
TZOFFSETTO:+0000
END:STANDARD
END:VTIMEZONE
BEGIN:VEVENT
UID:3526-215
DTSTAMP:20260420T001256Z
SUMMARY:Loire Valley Holiday 10.09.26
LOCATION:
ORGANIZER;CN=janejones:MAILTO:mrsmabel@btinternet.com
DTSTART;TZID=Europe/London:20260910T000000
DTEND;TZID=Europe/London:20260915T085800
X-ALT-DESC;FMTTYPE=TEXT/HTML:Six day break to the Loire Valley - not availa
 ble for booking yet
CATEGORIES:Holiday
URL;VALUE=URI:https://www.maghullandlydiateu3a.org.uk/mc-events/loire-valle
 y-holiday-10-09-26/?mc_id=3526
END:VEVENT
END:VCALENDAR