BEGIN:VCALENDAR
VERSION:2.0
PRODID:spatie/icalendar-generator
DESCRIPTION:Events from Maghull and Lydiate U3A
X-WR-CALDESC:Events from Maghull and Lydiate U3A
REFRESH-INTERVAL;VALUE=DURATION:PT1440M
X-PUBLISHED-TTL:PT1440M
BEGIN:VTIMEZONE
TZID:Europe/London
BEGIN:STANDARD
DTSTART:20241027T020000Z
TZOFFSETFROM:+0100
TZOFFSETTO:+0000
END:STANDARD
BEGIN:DAYLIGHT
DTSTART:20250330T010000Z
TZOFFSETFROM:+0000
TZOFFSETTO:+0100
END:DAYLIGHT
END:VTIMEZONE
BEGIN:VTIMEZONE
TZID:UTC
BEGIN:STANDARD
DTSTART:20250723T215227Z
TZOFFSETFROM:+0000
TZOFFSETTO:+0000
END:STANDARD
END:VTIMEZONE
BEGIN:VEVENT
UID:3302-204
DTSTAMP:20260419T215227Z
SUMMARY:Theatre Group
LOCATION:
ORGANIZER;CN=ann unsworth:MAILTO:annunsworth@yahoo.com
DTSTART;TZID=Europe/London:20250329T143000
DTEND;TZID=Europe/London:20250329T203000
X-ALT-DESC;FMTTYPE=TEXT/HTML:Leader Ann Unsworth 07881 885 474\, Pat Kelly 
 0151 476 1726 or Sue Quinn Private Lives at the Little Theatre Southport a
 t 14:30
CATEGORIES:General
URL;VALUE=URI:https://www.maghullandlydiateu3a.org.uk/mc-events/theatre-gro
 up-6/?mc_id=3302
END:VEVENT
END:VCALENDAR