BEGIN:VCALENDAR
VERSION:2.0
PRODID:spatie/icalendar-generator
DESCRIPTION:Events from Maghull and Lydiate U3A
X-WR-CALDESC:Events from Maghull and Lydiate U3A
REFRESH-INTERVAL;VALUE=DURATION:PT1440M
X-PUBLISHED-TTL:PT1440M
BEGIN:VTIMEZONE
TZID:Europe/London
BEGIN:STANDARD
DTSTART:20241027T020000Z
TZOFFSETFROM:+0100
TZOFFSETTO:+0000
END:STANDARD
BEGIN:DAYLIGHT
DTSTART:20250330T010000Z
TZOFFSETFROM:+0000
TZOFFSETTO:+0100
END:DAYLIGHT
END:VTIMEZONE
BEGIN:VTIMEZONE
TZID:UTC
BEGIN:STANDARD
DTSTART:20250724T033248Z
TZOFFSETFROM:+0000
TZOFFSETTO:+0000
END:STANDARD
END:VTIMEZONE
BEGIN:VEVENT
UID:2581-173
DTSTAMP:20260420T033248Z
SUMMARY:Table Tennis
LOCATION:Maghull Baptist Church Hall Lane  Maghull  L31 3EJ
ORGANIZER;CN=janejones:MAILTO:mrsmabel@btinternet.com
DTSTART;TZID=Europe/London:20241231T140000
DTEND;TZID=Europe/London:20241231T160000
X-ALT-DESC;FMTTYPE=TEXT/HTML:Please check with leader as this activity may 
 not take place today Maghull Baptist Church 14:00 - 16:00 Leaders: George 
 Dobie &amp;amp\; Carolyn Coamish &amp;nbsp\;
CATEGORIES:General
URL;VALUE=URI:https://www.maghullandlydiateu3a.org.uk/mc-events/table-tenni
 s-5/?mc_id=2581
END:VEVENT
END:VCALENDAR