BEGIN:VCALENDAR
VERSION:2.0
PRODID:spatie/icalendar-generator
DESCRIPTION:Events from Maghull and Lydiate U3A
X-WR-CALDESC:Events from Maghull and Lydiate U3A
REFRESH-INTERVAL;VALUE=DURATION:PT1440M
X-PUBLISHED-TTL:PT1440M
BEGIN:VTIMEZONE
TZID:Europe/London
BEGIN:DAYLIGHT
DTSTART:20240331T010000Z
TZOFFSETFROM:+0000
TZOFFSETTO:+0100
END:DAYLIGHT
BEGIN:STANDARD
DTSTART:20241027T020000Z
TZOFFSETFROM:+0100
TZOFFSETTO:+0000
END:STANDARD
END:VTIMEZONE
BEGIN:VTIMEZONE
TZID:UTC
BEGIN:STANDARD
DTSTART:20250724T121406Z
TZOFFSETFROM:+0000
TZOFFSETTO:+0000
END:STANDARD
END:VTIMEZONE
BEGIN:VEVENT
UID:2414-114
DTSTAMP:20260420T121406Z
SUMMARY:Group Leaders’ Handbook Review Group
LOCATION:
ORGANIZER;CN=janejones:MAILTO:mrsmabel@btinternet.com
DTSTART;TZID=Europe/London:20240730T111000
DTEND;TZID=Europe/London:20240731T110500
X-ALT-DESC;FMTTYPE=TEXT/HTML:Coffee room at MBC
CATEGORIES:General
URL;VALUE=URI:https://www.maghullandlydiateu3a.org.uk/mc-events/group-leade
 rs-handbook-review-group/?mc_id=2414
END:VEVENT
END:VCALENDAR