BEGIN:VCALENDAR
VERSION:2.0
PRODID:spatie/icalendar-generator
DESCRIPTION:Events from Maghull and Lydiate U3A
X-WR-CALDESC:Events from Maghull and Lydiate U3A
REFRESH-INTERVAL;VALUE=DURATION:PT1440M
X-PUBLISHED-TTL:PT1440M
BEGIN:VTIMEZONE
TZID:Europe/London
BEGIN:DAYLIGHT
DTSTART:20240331T010000Z
TZOFFSETFROM:+0000
TZOFFSETTO:+0100
END:DAYLIGHT
BEGIN:STANDARD
DTSTART:20241027T020000Z
TZOFFSETFROM:+0100
TZOFFSETTO:+0000
END:STANDARD
END:VTIMEZONE
BEGIN:VTIMEZONE
TZID:UTC
BEGIN:STANDARD
DTSTART:20250723T235457Z
TZOFFSETFROM:+0000
TZOFFSETTO:+0000
END:STANDARD
END:VTIMEZONE
BEGIN:VEVENT
UID:2318-99
DTSTAMP:20260419T235457Z
SUMMARY:Day Trip Thornbridge Hall
LOCATION:
ORGANIZER;CN=janejones:MAILTO:mrsmabel@btinternet.com
DTSTART;TZID=Europe/London:20240911T000000
DTEND;TZID=Europe/London:20240911T010000
X-ALT-DESC;FMTTYPE=TEXT/HTML:
CATEGORIES:General
URL;VALUE=URI:https://www.maghullandlydiateu3a.org.uk/mc-events/day-trip-th
 ornbridge-hall/?mc_id=2318
END:VEVENT
END:VCALENDAR