BEGIN:VCALENDAR
VERSION:2.0
PRODID:spatie/icalendar-generator
DESCRIPTION:Events from Maghull and Lydiate U3A
X-WR-CALDESC:Events from Maghull and Lydiate U3A
REFRESH-INTERVAL;VALUE=DURATION:PT1440M
X-PUBLISHED-TTL:PT1440M
BEGIN:VTIMEZONE
TZID:Europe/London
BEGIN:STANDARD
DTSTART:20241027T020000Z
TZOFFSETFROM:+0100
TZOFFSETTO:+0000
END:STANDARD
BEGIN:DAYLIGHT
DTSTART:20250330T010000Z
TZOFFSETFROM:+0000
TZOFFSETTO:+0100
END:DAYLIGHT
END:VTIMEZONE
BEGIN:VTIMEZONE
TZID:UTC
BEGIN:STANDARD
DTSTART:20250723T220850Z
TZOFFSETFROM:+0000
TZOFFSETTO:+0000
END:STANDARD
END:VTIMEZONE
BEGIN:VEVENT
UID:1592-175
DTSTAMP:20260419T220850Z
SUMMARY:Line Dancing
LOCATION:Maghull Parish Hall Damfield Lane\, Maghull    L31 6DB
ORGANIZER;CN=Nigel Burrows:MAILTO:nigel.burrows2@btinternet.com
DTSTART;TZID=Europe/London:20250101T100000
DTEND;TZID=Europe/London:20250101T120000
X-ALT-DESC;FMTTYPE=TEXT/HTML:Please check with leader as this activity may 
 not take place today
CATEGORIES:General
URL;VALUE=URI:https://www.maghullandlydiateu3a.org.uk/mc-events/line-dancin
 g-5/?mc_id=1592
END:VEVENT
END:VCALENDAR