BEGIN:VCALENDAR
VERSION:2.0
PRODID:spatie/icalendar-generator
DESCRIPTION:Events from Maghull and Lydiate U3A
X-WR-CALDESC:Events from Maghull and Lydiate U3A
REFRESH-INTERVAL;VALUE=DURATION:PT1440M
X-PUBLISHED-TTL:PT1440M
BEGIN:VTIMEZONE
TZID:Europe/London
BEGIN:DAYLIGHT
DTSTART:20260329T010000Z
TZOFFSETFROM:+0000
TZOFFSETTO:+0100
END:DAYLIGHT
BEGIN:STANDARD
DTSTART:20261025T020000Z
TZOFFSETFROM:+0100
TZOFFSETTO:+0000
END:STANDARD
BEGIN:DAYLIGHT
DTSTART:20270328T010000Z
TZOFFSETFROM:+0000
TZOFFSETTO:+0100
END:DAYLIGHT
END:VTIMEZONE
BEGIN:VTIMEZONE
TZID:UTC
BEGIN:STANDARD
DTSTART:20250723T221914Z
TZOFFSETFROM:+0000
TZOFFSETTO:+0000
END:STANDARD
END:VTIMEZONE
BEGIN:VEVENT
UID:7257-353
DTSTAMP:20260419T221914Z
SUMMARY:Theatre Group at The Empire
LOCATION:
ORGANIZER;CN=ann unsworth:MAILTO:annunsworth@yahoo.com
DTSTART;TZID=Europe/London:20261008T193000
DTEND;TZID=Europe/London:20261008T203000
X-ALT-DESC;FMTTYPE=TEXT/HTML:Leader Ann Unsworth 07881 885 474\, Pat Kelly 
 0151 476 1726 or Sue Quinn Lord of the Dance\, 30th Anniversary More detai
 ls here
CATEGORIES:General
URL;VALUE=URI:https://www.maghullandlydiateu3a.org.uk/mc-events/theatre-gro
 up-at-the-empire-7/?mc_id=7257
END:VEVENT
END:VCALENDAR