BEGIN:VCALENDAR
VERSION:2.0
PRODID:spatie/icalendar-generator
DESCRIPTION:Events from Maghull and Lydiate U3A
X-WR-CALDESC:Events from Maghull and Lydiate U3A
REFRESH-INTERVAL;VALUE=DURATION:PT1440M
X-PUBLISHED-TTL:PT1440M
BEGIN:VTIMEZONE
TZID:Europe/London
BEGIN:STANDARD
DTSTART:20241027T020000Z
TZOFFSETFROM:+0100
TZOFFSETTO:+0000
END:STANDARD
BEGIN:DAYLIGHT
DTSTART:20250330T010000Z
TZOFFSETFROM:+0000
TZOFFSETTO:+0100
END:DAYLIGHT
BEGIN:STANDARD
DTSTART:20251026T020000Z
TZOFFSETFROM:+0100
TZOFFSETTO:+0000
END:STANDARD
END:VTIMEZONE
BEGIN:VTIMEZONE
TZID:UTC
BEGIN:STANDARD
DTSTART:20250723T175346Z
TZOFFSETFROM:+0000
TZOFFSETTO:+0000
END:STANDARD
END:VTIMEZONE
BEGIN:VEVENT
UID:3726-244
DTSTAMP:20260419T175346Z
SUMMARY:Art Appreciation - Art@Liver Buildings
LOCATION:
ORGANIZER;CN=Bob Morris:MAILTO:bobsafe@btinternet.com
DTSTART;TZID=Europe/London;VALUE=DATE:20250714
DTEND;TZID=Europe/London;VALUE=DATE:20250715
X-ALT-DESC;FMTTYPE=TEXT/HTML:Leader Maureen Birchall 0151 287 0308 Booking 
 essential. Meet at Maghull Station 11:00 to Old Hall Street and stroll to 
 Liver Buildings
CATEGORIES:General
URL;VALUE=URI:https://www.maghullandlydiateu3a.org.uk/mc-events/art-appreci
 ation-artliver-buildings/?mc_id=3726
END:VEVENT
END:VCALENDAR