BEGIN:VCALENDAR
VERSION:2.0
PRODID:spatie/icalendar-generator
DESCRIPTION:Events from Maghull and Lydiate U3A
X-WR-CALDESC:Events from Maghull and Lydiate U3A
REFRESH-INTERVAL;VALUE=DURATION:PT1440M
X-PUBLISHED-TTL:PT1440M
BEGIN:VTIMEZONE
TZID:Europe/London
BEGIN:STANDARD
DTSTART:20241027T020000Z
TZOFFSETFROM:+0100
TZOFFSETTO:+0000
END:STANDARD
BEGIN:DAYLIGHT
DTSTART:20250330T010000Z
TZOFFSETFROM:+0000
TZOFFSETTO:+0100
END:DAYLIGHT
BEGIN:STANDARD
DTSTART:20251026T020000Z
TZOFFSETFROM:+0100
TZOFFSETTO:+0000
END:STANDARD
END:VTIMEZONE
BEGIN:VTIMEZONE
TZID:UTC
BEGIN:STANDARD
DTSTART:20250724T000809Z
TZOFFSETFROM:+0000
TZOFFSETTO:+0000
END:STANDARD
END:VTIMEZONE
BEGIN:VEVENT
UID:3725-243
DTSTAMP:20260420T000809Z
SUMMARY:Day Trip - Llangollen and Chirk
LOCATION:
ORGANIZER;CN=Bob Morris:MAILTO:bobsafe@btinternet.com
DTSTART;TZID=Europe/London;VALUE=DATE:20250611
DTEND;TZID=Europe/London;VALUE=DATE:20250612
X-ALT-DESC;FMTTYPE=TEXT/HTML:Marj Atlay 07799 344 060
CATEGORIES:General
URL;VALUE=URI:https://www.maghullandlydiateu3a.org.uk/mc-events/day-trip-ll
 angollen-and-chirk/?mc_id=3725
END:VEVENT
END:VCALENDAR