BEGIN:VCALENDAR
VERSION:2.0
PRODID:spatie/icalendar-generator
DESCRIPTION:Events from Maghull and Lydiate U3A
X-WR-CALDESC:Events from Maghull and Lydiate U3A
REFRESH-INTERVAL;VALUE=DURATION:PT1440M
X-PUBLISHED-TTL:PT1440M
BEGIN:VTIMEZONE
TZID:Europe/London
BEGIN:STANDARD
DTSTART:20241027T020000Z
TZOFFSETFROM:+0100
TZOFFSETTO:+0000
END:STANDARD
BEGIN:DAYLIGHT
DTSTART:20250330T010000Z
TZOFFSETFROM:+0000
TZOFFSETTO:+0100
END:DAYLIGHT
END:VTIMEZONE
BEGIN:VTIMEZONE
TZID:UTC
BEGIN:STANDARD
DTSTART:20250724T074638Z
TZOFFSETFROM:+0000
TZOFFSETTO:+0000
END:STANDARD
END:VTIMEZONE
BEGIN:VEVENT
UID:3294-197
DTSTAMP:20260420T074638Z
SUMMARY:Art Appreciation
LOCATION:
ORGANIZER;CN=mbirchall:MAILTO:damfield@aol.com
DTSTART;TZID=Europe/London;VALUE=DATE:20250228
DTEND;TZID=Europe/London;VALUE=DATE:20250301
X-ALT-DESC;FMTTYPE=TEXT/HTML:Leader Maureen Birchall 0151 287 0308 Threads 
 through the Bible\, Liverpool Cathedral &amp;nbsp\;
CATEGORIES:General
URL;VALUE=URI:https://www.maghullandlydiateu3a.org.uk/mc-events/art-appreci
 ation-5/?mc_id=3294
END:VEVENT
END:VCALENDAR