BEGIN:VCALENDAR
VERSION:2.0
PRODID:spatie/icalendar-generator
DESCRIPTION:Events from Maghull and Lydiate U3A
X-WR-CALDESC:Events from Maghull and Lydiate U3A
REFRESH-INTERVAL;VALUE=DURATION:PT1440M
X-PUBLISHED-TTL:PT1440M
BEGIN:VTIMEZONE
TZID:Europe/London
BEGIN:STANDARD
DTSTART:20241027T020000Z
TZOFFSETFROM:+0100
TZOFFSETTO:+0000
END:STANDARD
BEGIN:DAYLIGHT
DTSTART:20250330T010000Z
TZOFFSETFROM:+0000
TZOFFSETTO:+0100
END:DAYLIGHT
END:VTIMEZONE
BEGIN:VTIMEZONE
TZID:UTC
BEGIN:STANDARD
DTSTART:20250724T062549Z
TZOFFSETFROM:+0000
TZOFFSETTO:+0000
END:STANDARD
END:VTIMEZONE
BEGIN:VEVENT
UID:3280-192
DTSTAMP:20260420T062549Z
SUMMARY:Art Appreciation Kirkby Gallery Open Exhibition
LOCATION:
ORGANIZER;CN=Bob Morris:MAILTO:bobsafe@btinternet.com
DTSTART;TZID=Europe/London:20250411T101500
DTEND;TZID=Europe/London:20250411T111500
X-ALT-DESC;FMTTYPE=TEXT/HTML:Leader Maureen Birchall 0151 287 0308 Free int
 roductory talk by Tina. Book at desk to confirm place.10:15 at venue.
CATEGORIES:General
URL;VALUE=URI:https://www.maghullandlydiateu3a.org.uk/mc-events/art-appreci
 ation-kirkby-gallery-open-exhibition/?mc_id=3280
END:VEVENT
END:VCALENDAR