BEGIN:VCALENDAR
VERSION:2.0
PRODID:spatie/icalendar-generator
DESCRIPTION:Events from Maghull and Lydiate U3A
X-WR-CALDESC:Events from Maghull and Lydiate U3A
REFRESH-INTERVAL;VALUE=DURATION:PT1440M
X-PUBLISHED-TTL:PT1440M
BEGIN:VTIMEZONE
TZID:Europe/London
BEGIN:STANDARD
DTSTART:20241027T020000Z
TZOFFSETFROM:+0100
TZOFFSETTO:+0000
END:STANDARD
BEGIN:DAYLIGHT
DTSTART:20250330T010000Z
TZOFFSETFROM:+0000
TZOFFSETTO:+0100
END:DAYLIGHT
END:VTIMEZONE
BEGIN:VTIMEZONE
TZID:UTC
BEGIN:STANDARD
DTSTART:20250724T060850Z
TZOFFSETFROM:+0000
TZOFFSETTO:+0000
END:STANDARD
END:VTIMEZONE
BEGIN:VEVENT
UID:3149-219
DTSTAMP:20260420T060850Z
SUMMARY:History 4 fun
LOCATION:Kensington House Station Road  Maghull  L31 3DF
ORGANIZER;CN=eric purvis:MAILTO:e_purvis@sky.com
DTSTART;TZID=Europe/London:20250410T143000
DTEND;TZID=Europe/London:20250410T153000
X-ALT-DESC;FMTTYPE=TEXT/HTML:Leader Eric Purvis 0151 531 0170 Dot Broadt Ha
 wks on local heroes &amp;nbsp\;
CATEGORIES:General
URL;VALUE=URI:https://www.maghullandlydiateu3a.org.uk/mc-events/history-4-f
 un-3/?mc_id=3149
END:VEVENT
END:VCALENDAR