BEGIN:VCALENDAR
VERSION:2.0
PRODID:spatie/icalendar-generator
DESCRIPTION:Events from Maghull and Lydiate U3A
X-WR-CALDESC:Events from Maghull and Lydiate U3A
REFRESH-INTERVAL;VALUE=DURATION:PT1440M
X-PUBLISHED-TTL:PT1440M
BEGIN:VTIMEZONE
TZID:Europe/London
BEGIN:STANDARD
DTSTART:20241027T020000Z
TZOFFSETFROM:+0100
TZOFFSETTO:+0000
END:STANDARD
BEGIN:DAYLIGHT
DTSTART:20250330T010000Z
TZOFFSETFROM:+0000
TZOFFSETTO:+0100
END:DAYLIGHT
END:VTIMEZONE
BEGIN:VTIMEZONE
TZID:UTC
BEGIN:STANDARD
DTSTART:20250724T093540Z
TZOFFSETFROM:+0000
TZOFFSETTO:+0000
END:STANDARD
END:VTIMEZONE
BEGIN:VEVENT
UID:2656-140
DTSTAMP:20260420T093540Z
SUMMARY:Art Appreciation Bristol Art Break
LOCATION:
ORGANIZER;CN=janejones:MAILTO:mrsmabel@btinternet.com
DTSTART;TZID=Europe/London;VALUE=DATE:20250321
DTEND;TZID=Europe/London;VALUE=DATE:20250325
X-ALT-DESC;FMTTYPE=TEXT/HTML:Enjoy a four day break to check out the Bristo
 l Art Scene\,  Contact the Art Appreciation Desk.
CATEGORIES:Holiday
URL;VALUE=URI:https://www.maghullandlydiateu3a.org.uk/mc-events/art-appreci
 ation-bristol-art-break/?mc_id=2656
END:VEVENT
END:VCALENDAR