BEGIN:VCALENDAR
VERSION:2.0
PRODID:spatie/icalendar-generator
DESCRIPTION:Events from Maghull and Lydiate U3A
X-WR-CALDESC:Events from Maghull and Lydiate U3A
REFRESH-INTERVAL;VALUE=DURATION:PT1440M
X-PUBLISHED-TTL:PT1440M
BEGIN:VTIMEZONE
TZID:Europe/London
BEGIN:DAYLIGHT
DTSTART:20240331T010000Z
TZOFFSETFROM:+0000
TZOFFSETTO:+0100
END:DAYLIGHT
BEGIN:STANDARD
DTSTART:20241027T020000Z
TZOFFSETFROM:+0100
TZOFFSETTO:+0000
END:STANDARD
END:VTIMEZONE
BEGIN:VTIMEZONE
TZID:UTC
BEGIN:STANDARD
DTSTART:20250723T122810Z
TZOFFSETFROM:+0000
TZOFFSETTO:+0000
END:STANDARD
END:VTIMEZONE
BEGIN:VEVENT
UID:2650-133
DTSTAMP:20260419T122810Z
SUMMARY:Supper Club
LOCATION:
ORGANIZER;CN=Susan Quinn:MAILTO:suequinn105@gmail.com
DTSTART;TZID=Europe/London:20240910T190000
DTEND;TZID=Europe/London:20240910T220000
X-ALT-DESC;FMTTYPE=TEXT/HTML:Details from Sue Quinn on 07428 013766 &amp;nbsp\;
CATEGORIES:General
URL;VALUE=URI:https://www.maghullandlydiateu3a.org.uk/mc-events/supper-club
 /?mc_id=2650
END:VEVENT
END:VCALENDAR