BEGIN:VCALENDAR
VERSION:2.0
PRODID:spatie/icalendar-generator
DESCRIPTION:Events from Maghull and Lydiate U3A
X-WR-CALDESC:Events from Maghull and Lydiate U3A
REFRESH-INTERVAL;VALUE=DURATION:PT1440M
X-PUBLISHED-TTL:PT1440M
BEGIN:VTIMEZONE
TZID:Europe/London
BEGIN:DAYLIGHT
DTSTART:20240331T010000Z
TZOFFSETFROM:+0000
TZOFFSETTO:+0100
END:DAYLIGHT
BEGIN:STANDARD
DTSTART:20241027T020000Z
TZOFFSETFROM:+0100
TZOFFSETTO:+0000
END:STANDARD
END:VTIMEZONE
BEGIN:VTIMEZONE
TZID:UTC
BEGIN:STANDARD
DTSTART:20250724T164213Z
TZOFFSETFROM:+0000
TZOFFSETTO:+0000
END:STANDARD
END:VTIMEZONE
BEGIN:VEVENT
UID:2540-122
DTSTAMP:20260420T164213Z
SUMMARY:Art Appreciation - Paint a Pot
LOCATION:
ORGANIZER;CN=mbirchall:MAILTO:damfield@aol.com
DTSTART;TZID=Europe/London:20240907T100000
DTEND;TZID=Europe/London:20240907T110000
X-ALT-DESC;FMTTYPE=TEXT/HTML:Visit to Eden Galleries\, Parbold
CATEGORIES:General
URL;VALUE=URI:https://www.maghullandlydiateu3a.org.uk/mc-events/art-appreci
 ation-paint-a-pot/?mc_id=2540
END:VEVENT
END:VCALENDAR