BEGIN:VCALENDAR
VERSION:2.0
PRODID:spatie/icalendar-generator
DESCRIPTION:Events from Maghull and Lydiate U3A
X-WR-CALDESC:Events from Maghull and Lydiate U3A
REFRESH-INTERVAL;VALUE=DURATION:PT1440M
X-PUBLISHED-TTL:PT1440M
BEGIN:VTIMEZONE
TZID:Europe/London
BEGIN:DAYLIGHT
DTSTART:20240331T010000Z
TZOFFSETFROM:+0000
TZOFFSETTO:+0100
END:DAYLIGHT
BEGIN:STANDARD
DTSTART:20241027T020000Z
TZOFFSETFROM:+0100
TZOFFSETTO:+0000
END:STANDARD
END:VTIMEZONE
BEGIN:VTIMEZONE
TZID:UTC
BEGIN:STANDARD
DTSTART:20250726T153012Z
TZOFFSETFROM:+0000
TZOFFSETTO:+0000
END:STANDARD
END:VTIMEZONE
BEGIN:VEVENT
UID:2411-111
DTSTAMP:20260422T153012Z
SUMMARY:Wine Tasting - Italian Wines
LOCATION:
ORGANIZER;CN=George Birchall:MAILTO:damfield88@virginmedia.com
DTSTART;TZID=Europe/London:20240815T180000
DTEND;TZID=Europe/London:20240815T230000
X-ALT-DESC;FMTTYPE=TEXT/HTML:A night  tasting a selection of Italian Wines
CATEGORIES:General
URL;VALUE=URI:https://www.maghullandlydiateu3a.org.uk/mc-events/wine-tastin
 g-italian-wines/?mc_id=2411
END:VEVENT
END:VCALENDAR