BEGIN:VCALENDAR
VERSION:2.0
PRODID:spatie/icalendar-generator
DESCRIPTION:Events from Maghull and Lydiate U3A
X-WR-CALDESC:Events from Maghull and Lydiate U3A
REFRESH-INTERVAL;VALUE=DURATION:PT1440M
X-PUBLISHED-TTL:PT1440M
BEGIN:VTIMEZONE
TZID:Europe/London
BEGIN:DAYLIGHT
DTSTART:20250330T010000Z
TZOFFSETFROM:+0000
TZOFFSETTO:+0100
END:DAYLIGHT
BEGIN:STANDARD
DTSTART:20251026T020000Z
TZOFFSETFROM:+0100
TZOFFSETTO:+0000
END:STANDARD
END:VTIMEZONE
BEGIN:VTIMEZONE
TZID:UTC
BEGIN:STANDARD
DTSTART:20250723T175630Z
TZOFFSETFROM:+0000
TZOFFSETTO:+0000
END:STANDARD
END:VTIMEZONE
BEGIN:VEVENT
UID:2322-103
DTSTAMP:20260419T175630Z
SUMMARY:Six Day Holiday to North Devon
LOCATION:
ORGANIZER;CN=janejones:MAILTO:mrsmabel@btinternet.com
DTSTART;TZID=Europe/London;VALUE=DATE:20250914
DTEND;TZID=Europe/London;VALUE=DATE:20250920
X-ALT-DESC;FMTTYPE=TEXT/HTML:Contact Jane Jones 07736053150
CATEGORIES:Holiday
URL;VALUE=URI:https://www.maghullandlydiateu3a.org.uk/mc-events/six-day-hol
 iday-to-north-devon/?mc_id=2322
END:VEVENT
END:VCALENDAR