BEGIN:VCALENDAR
VERSION:2.0
PRODID:spatie/icalendar-generator
DESCRIPTION:Events from Maghull and Lydiate U3A
X-WR-CALDESC:Events from Maghull and Lydiate U3A
REFRESH-INTERVAL;VALUE=DURATION:PT1440M
X-PUBLISHED-TTL:PT1440M
BEGIN:VTIMEZONE
TZID:Europe/London
BEGIN:DAYLIGHT
DTSTART:20240331T010000Z
TZOFFSETFROM:+0000
TZOFFSETTO:+0100
END:DAYLIGHT
BEGIN:STANDARD
DTSTART:20241027T020000Z
TZOFFSETFROM:+0100
TZOFFSETTO:+0000
END:STANDARD
BEGIN:DAYLIGHT
DTSTART:20250330T010000Z
TZOFFSETFROM:+0000
TZOFFSETTO:+0100
END:DAYLIGHT
END:VTIMEZONE
BEGIN:VTIMEZONE
TZID:UTC
BEGIN:STANDARD
DTSTART:20250724T150808Z
TZOFFSETFROM:+0000
TZOFFSETTO:+0000
END:STANDARD
END:VTIMEZONE
BEGIN:VEVENT
UID:2058-65
DTSTAMP:20260420T150808Z
SUMMARY:Book Club - Hay on Wye  Festival
LOCATION:
ORGANIZER;CN=Susan Quinn:MAILTO:suequinn105@gmail.com
DTSTART;TZID=Europe/London;VALUE=DATE:20241128
DTEND;TZID=Europe/London;VALUE=DATE:20241201
X-ALT-DESC;FMTTYPE=TEXT/HTML:
CATEGORIES:Holiday
URL;VALUE=URI:https://www.maghullandlydiateu3a.org.uk/mc-events/book-club-h
 ay-on-wye-festival/?mc_id=2058
END:VEVENT
END:VCALENDAR