BEGIN:VCALENDAR
VERSION:2.0
PRODID:spatie/icalendar-generator
DESCRIPTION:Events from Maghull and Lydiate U3A
X-WR-CALDESC:Events from Maghull and Lydiate U3A
REFRESH-INTERVAL;VALUE=DURATION:PT1440M
X-PUBLISHED-TTL:PT1440M
BEGIN:VTIMEZONE
TZID:Europe/London
BEGIN:STANDARD
DTSTART:20241027T020000Z
TZOFFSETFROM:+0100
TZOFFSETTO:+0000
END:STANDARD
BEGIN:DAYLIGHT
DTSTART:20250330T010000Z
TZOFFSETFROM:+0000
TZOFFSETTO:+0100
END:DAYLIGHT
END:VTIMEZONE
BEGIN:VTIMEZONE
TZID:UTC
BEGIN:STANDARD
DTSTART:20250724T074713Z
TZOFFSETFROM:+0000
TZOFFSETTO:+0000
END:STANDARD
END:VTIMEZONE
BEGIN:VEVENT
UID:1777-57
DTSTAMP:20260420T074713Z
SUMMARY:Nordic Walking 2
LOCATION:
ORGANIZER;CN=Nigel Burrows:MAILTO:nigel.burrows2@btinternet.com
DTSTART;TZID=Europe/London:20250317T100000
DTEND;TZID=Europe/London:20250317T110000
X-ALT-DESC;FMTTYPE=TEXT/HTML:Leader Margaret Kendall 0151 526 3164 Dave Cad
 wallader 07790 081778 Meet at Maghull Leisure Centre
CATEGORIES:General
URL;VALUE=URI:https://www.maghullandlydiateu3a.org.uk/mc-events/nordic-walk
 ing-2/?mc_id=1777
END:VEVENT
END:VCALENDAR