BEGIN:VCALENDAR
VERSION:2.0
PRODID:spatie/icalendar-generator
DESCRIPTION:Events from Maghull and Lydiate U3A
X-WR-CALDESC:Events from Maghull and Lydiate U3A
REFRESH-INTERVAL;VALUE=DURATION:PT1440M
X-PUBLISHED-TTL:PT1440M
BEGIN:VTIMEZONE
TZID:Europe/London
BEGIN:STANDARD
DTSTART:20231029T020000Z
TZOFFSETFROM:+0100
TZOFFSETTO:+0000
END:STANDARD
BEGIN:DAYLIGHT
DTSTART:20240331T010000Z
TZOFFSETFROM:+0000
TZOFFSETTO:+0100
END:DAYLIGHT
BEGIN:STANDARD
DTSTART:20241027T020000Z
TZOFFSETFROM:+0100
TZOFFSETTO:+0000
END:STANDARD
END:VTIMEZONE
BEGIN:VTIMEZONE
TZID:UTC
BEGIN:STANDARD
DTSTART:20250723T154520Z
TZOFFSETFROM:+0000
TZOFFSETTO:+0000
END:STANDARD
END:VTIMEZONE
BEGIN:VEVENT
UID:1387-31
DTSTAMP:20260419T154520Z
SUMMARY:Family History
LOCATION:Lydiate Village Centre Lambshear Lane\, Lydiate    L31 2LA
ORGANIZER;CN=Nigel Burrows:MAILTO:nigel.burrows2@btinternet.com
DTSTART;TZID=Europe/London:20240606T140000
DTEND;TZID=Europe/London:20240606T160000
X-ALT-DESC;FMTTYPE=TEXT/HTML:Leader - David Russell 526 6527 Ros Leith 526 
 3623
CATEGORIES:General
URL;VALUE=URI:https://www.maghullandlydiateu3a.org.uk/mc-events/family-hist
 ory-3/?mc_id=1387
END:VEVENT
END:VCALENDAR